BEGIN:VCALENDAR
VERSION:2.0
PRODID:-//PMCH - ECPv6.15.18//NONSGML v1.0//EN
CALSCALE:GREGORIAN
METHOD:PUBLISH
X-ORIGINAL-URL:https://pmch.org
X-WR-CALDESC:Events for PMCH
REFRESH-INTERVAL;VALUE=DURATION:PT1H
X-Robots-Tag:noindex
X-PUBLISHED-TTL:PT1H
BEGIN:VTIMEZONE
TZID:America/New_York
BEGIN:DAYLIGHT
TZOFFSETFROM:-0500
TZOFFSETTO:-0400
TZNAME:EDT
DTSTART:20250309T070000
END:DAYLIGHT
BEGIN:STANDARD
TZOFFSETFROM:-0400
TZOFFSETTO:-0500
TZNAME:EST
DTSTART:20251102T060000
END:STANDARD
BEGIN:DAYLIGHT
TZOFFSETFROM:-0500
TZOFFSETTO:-0400
TZNAME:EDT
DTSTART:20260308T070000
END:DAYLIGHT
BEGIN:STANDARD
TZOFFSETFROM:-0400
TZOFFSETTO:-0500
TZNAME:EST
DTSTART:20261101T060000
END:STANDARD
BEGIN:DAYLIGHT
TZOFFSETFROM:-0500
TZOFFSETTO:-0400
TZNAME:EDT
DTSTART:20270314T070000
END:DAYLIGHT
BEGIN:STANDARD
TZOFFSETFROM:-0400
TZOFFSETTO:-0500
TZNAME:EST
DTSTART:20271107T060000
END:STANDARD
END:VTIMEZONE
BEGIN:VEVENT
DTSTART;TZID=America/New_York:20260519T090000
DTEND;TZID=America/New_York:20260519T143000
DTSTAMP:20260423T010209
CREATED:20260211T145710Z
LAST-MODIFIED:20260409T145857Z
UID:10006128-1779181200-1779201000@pmch.org
SUMMARY:Lost Hopes & Dreams: New Jersey's Perinatal Bereavement Training for Community Health
DESCRIPTION:This event is sold out. Please email ProfEd@pmch.org to be added to the waitlist. \nPlease note – this program is intended for those working in the community setting. Healthcare professionals working in the inpatient setting may find more value in our full-day program\, which will be scheduled later in the year.  \nThis training is designed to enhance the knowledge and skills of healthcare professionals in the community setting who provide care and support to New Jersey families experiencing perinatal loss.  \nAfter attending this program\, participants will be able to: \nDefine the five types of perinatal loss \n\nImplement communication skills with parents and family members\nReview the ethical dilemmas that can occur with deaths in the NICU\nExplain best practice for supporting families with pregnancy after loss\nDescribe ways to support families during pregnancy after loss\nState resources for bereaved families\nVerbalize methods of self care when working with bereaved families\n\n\n  \nTarget Audience \nPerinatal Community Nurses\, Doulas\, Community Health Workers \nLearning Outcome \nAfter attending the program\, 85% of attendees will report an increase in knowledge and skill to be able to effectively care for families who experience perinatal loss. \nDisclosure/Commercial Support \nThe planners and speakers do not have any conflicts of interest to report for this activity. There is no commercial support for this activity. \nContinuing Nursing Education Contact Hours \nThis program has been awarded 4.5 contact hours. \nThe Partnership for Maternal and Child Health of Northern New Jersey is approved as a provider of nursing continuing professional development by New Jersey State Nurses Association\, an accredited approver by the American Nurses Credentialing Center’s Commission on Accreditation. P194-4/26-29 \nThis program is provided by The Partnership for Maternal and Child Health of Northern New Jersey and jointly provided by Central Jersey Family Health Consortium and Southern New Jersey Perinatal Cooperative \nApproval status does not imply endorsement by the Partnership for Maternal and Child Health of Northern New Jersey\, Central Jersey Family Health Consortium\, Southern New Jersey Perinatal Cooperative\, NJSNA or by ANCC of any commercial products discussed/ displayed in conjunction with the educational activity. \nSuccessful Completion \nTo receive contact hours/CEs for participating in the continuing education program\, the participant must be registered\, attend the entire program\, and complete and submit an online evaluation. A certificate of completion will be distributed within two weeks of the program. \nAgenda \n\nWelcome & Introductions\nTypes of Perinatal Loss\nNew Jersey Statutes and Legislative Mandates Relating to Perinatal Loss\nCommunication with Mothers/Parents; Support for Fathers & Family Members\nLoss in the NICU; Ethics/Periviability\nPregnancy & Birth After Loss\nSpiritual Support/Multicultural Needs\, Values; Memory Making/Photography\nLunch\nCare for the Caregiver; Support with Patient Assignments\nEvaluation\n\n  \nCost \n$30. Ticket covers full conference\, lunch\, and continuing education credits.
URL:https://pmch.org/event/lost-hopes-dreams-new-jerseys-perinatal-bereavement-training-for-community-health-3/
LOCATION:Partnership for Maternal and Child Health of Northern New Jersey – Center for Clinical Impact\, 150 Meadowlands Parkway\, Secaucus\, NJ\, 07094\, United States
CATEGORIES:Educational Opportunities
ATTACH;FMTTYPE=image/jpeg:https://pmch.org/wp-content/uploads/2024/07/purple-flower.jpg
END:VEVENT
END:VCALENDAR