BEGIN:VCALENDAR
VERSION:2.0
PRODID:-//PMCH - ECPv6.15.18//NONSGML v1.0//EN
CALSCALE:GREGORIAN
METHOD:PUBLISH
X-ORIGINAL-URL:https://pmch.org
X-WR-CALDESC:Events for PMCH
REFRESH-INTERVAL;VALUE=DURATION:PT1H
X-Robots-Tag:noindex
X-PUBLISHED-TTL:PT1H
BEGIN:VTIMEZONE
TZID:America/New_York
BEGIN:DAYLIGHT
TZOFFSETFROM:-0500
TZOFFSETTO:-0400
TZNAME:EDT
DTSTART:20250309T070000
END:DAYLIGHT
BEGIN:STANDARD
TZOFFSETFROM:-0400
TZOFFSETTO:-0500
TZNAME:EST
DTSTART:20251102T060000
END:STANDARD
BEGIN:DAYLIGHT
TZOFFSETFROM:-0500
TZOFFSETTO:-0400
TZNAME:EDT
DTSTART:20260308T070000
END:DAYLIGHT
BEGIN:STANDARD
TZOFFSETFROM:-0400
TZOFFSETTO:-0500
TZNAME:EST
DTSTART:20261101T060000
END:STANDARD
BEGIN:DAYLIGHT
TZOFFSETFROM:-0500
TZOFFSETTO:-0400
TZNAME:EDT
DTSTART:20270314T070000
END:DAYLIGHT
BEGIN:STANDARD
TZOFFSETFROM:-0400
TZOFFSETTO:-0500
TZNAME:EST
DTSTART:20271107T060000
END:STANDARD
END:VTIMEZONE
BEGIN:VEVENT
DTSTART;TZID=America/New_York:20260603T120000
DTEND;TZID=America/New_York:20260603T133000
DTSTAMP:20260423T033338
CREATED:20260420T131603Z
LAST-MODIFIED:20260420T145545Z
UID:10006185-1780488000-1780493400@pmch.org
SUMMARY:Meningitis Prevention at a Crossroads:  Policy Changes\, Real Lives\, and Local Action
DESCRIPTION:Virtual Presentation during the Essex Metro Immunization Coalition (EMIC) Meeting \nThe American Society for Meningitis Prevention (ASMP) will join EMIC to highlight the human impact of meningococcal meningitis through powerful personal stories from families affected by the disease\, underscoring the critical importance of timely vaccination. Participants will gain a clear\, practical overview of meningococcal meningitis\, including how it spreads\, potential outcomes\, and proven prevention strategies\, with a focus on currently available meningococcal vaccines. The session will conclude by sharing resources and partnership opportunities with ASMP to support and amplify local meningococcal meningitis prevention and education campaigns. \nTarget Audience: Nurses\, Physicians\, Community Health Workers\, Health Educators \nPresenters: \nMary Beth Koslap-Petraco\, DNP PPCNP-BC CPNP FAANP\, Clinical Assistant Professor\, Stony Brook University School of Nursing\, Nurse Consultant\, Immunize.org\, Owner/NP\, Pediatric Nurse Practitioner House Calls PLLC \nAlicia Stillman\, MPH\, MBA\, Co-Founder\, ASMP \nPatti Wukovits\, BSN\, RN\, AMB-BC\, Co-Founder\, ASMP \nLearning Outcome: At the conclusion of the program\, participants will report an increase in knowledge related to meningococcal meningitis\, prevention strategies\, and community support. \nDisclosure/Commercial Support: None of the speakers or planners have relevant financial relationships to disclose. There is no commercial support for this activity.  \nContinuing Nursing Education Contact Hours: This program has been awarded 1.0 contact hours. The Partnership for Maternal & Child Health of Northern New Jersey is an approved provider of nursing continuing professional development by the New Jersey State Nurses Association\, an accredited approver by the American Nurses Credentialing Center’s Commission on Accreditation. Provider Number: P194-4/26-29. \nApproval status does not imply endorsement by the Partnership for Maternal and Child Health of Northern New Jersey\, NJSNA or by ANCC of any commercial products discussed/displayed in conjunction with the educational activity. \nSuccessful Completion: To receive contact hours for attending the live continuing education program\, the registrant must sign in for the meeting\, attend the entire presentation (as defined by at least 80%)\, and complete and submit an evaluation. A certificate of completion will be distributed within two weeks of the live program.  \nCost: This program is free\, but registration is required \nRegistration: Click Here to register
URL:https://pmch.org/event/meningitis-prevention/
CATEGORIES:Educational Opportunities
ATTACH;FMTTYPE=image/jpeg:https://pmch.org/wp-content/uploads/2026/04/Thumbnail-15.jpg
END:VEVENT
END:VCALENDAR